BEGIN:VCALENDAR
VERSION:2.0
PRODID:-//Max-Lahr et Fils - ECPv6.15.18//NONSGML v1.0//EN
CALSCALE:GREGORIAN
METHOD:PUBLISH
X-ORIGINAL-URL:https://www.max-lahr.lu/fr/
X-WR-CALDESC:Évènements pour Max-Lahr et Fils
REFRESH-INTERVAL;VALUE=DURATION:PT1H
X-Robots-Tag:noindex
X-PUBLISHED-TTL:PT1H
BEGIN:VTIMEZONE
TZID:Europe/Helsinki
BEGIN:DAYLIGHT
TZOFFSETFROM:+0200
TZOFFSETTO:+0300
TZNAME:EEST
DTSTART:20250330T010000
END:DAYLIGHT
BEGIN:STANDARD
TZOFFSETFROM:+0300
TZOFFSETTO:+0200
TZNAME:EET
DTSTART:20251026T010000
END:STANDARD
BEGIN:DAYLIGHT
TZOFFSETFROM:+0200
TZOFFSETTO:+0300
TZNAME:EEST
DTSTART:20260329T010000
END:DAYLIGHT
BEGIN:STANDARD
TZOFFSETFROM:+0300
TZOFFSETTO:+0200
TZNAME:EET
DTSTART:20261025T010000
END:STANDARD
BEGIN:DAYLIGHT
TZOFFSETFROM:+0200
TZOFFSETTO:+0300
TZNAME:EEST
DTSTART:20270328T010000
END:DAYLIGHT
BEGIN:STANDARD
TZOFFSETFROM:+0300
TZOFFSETTO:+0200
TZNAME:EET
DTSTART:20271031T010000
END:STANDARD
END:VTIMEZONE
BEGIN:VEVENT
DTSTART;VALUE=DATE:20260524
DTEND;VALUE=DATE:20260526
DTSTAMP:20260425T141500
CREATED:20180312T143613Z
LAST-MODIFIED:20241015T193750Z
UID:2743-1779580800-1779753599@www.max-lahr.lu
SUMMARY:WINE TASTE ENJOY
DESCRIPTION:Weekend des caves ouvertes à la Moselle luxembourgeoise \nLa région entière ainsi que les caves participantes dans les villages viticoles sont accessibles par les transports en commun bien organisés. De plus\, deux navettes gratuites seront à la disposition au public et circuleront entre tous les vignerons. \nUn programme détaillé de l’événement « Wine Taste Enjoy » avec toutes les informations concernant les événements est disponible en ligne.
URL:https://www.max-lahr.lu/fr/event/wine-taste-enjoy-2025/
LOCATION:Domaine Viticole Max-Lahr et Fils\, 6\, rue des vignes\, Ahn\, Ahn\, 5401\, Luxembourg
CATEGORIES:Fêtes des vins
ATTACH;FMTTYPE=image/jpeg:https://www.max-lahr.lu/wp-content/uploads/2018/03/wine-taste-enjoy.jpg
ORGANIZER;CN="Office R%C3%A9gional du Tourisme R%C3%A9gion Moselle Luxembourgeoise":MAILTO:info@visitmoselle.lu
END:VEVENT
BEGIN:VEVENT
DTSTART;VALUE=DATE:20260525
DTEND;VALUE=DATE:20260526
DTSTAMP:20260425T141500
CREATED:20241020T183803Z
LAST-MODIFIED:20241020T183938Z
UID:6687-1779667200-1779753599@www.max-lahr.lu
SUMMARY:Pentecôte
DESCRIPTION:
URL:https://www.max-lahr.lu/fr/event/pentecote/
END:VEVENT
BEGIN:VEVENT
DTSTART;VALUE=DATE:20260529
DTEND;VALUE=DATE:20260530
DTSTAMP:20260425T141500
CREATED:20241020T182516Z
LAST-MODIFIED:20241020T183230Z
UID:6681-1780012800-1780099199@www.max-lahr.lu
SUMMARY:L'Assomption
DESCRIPTION:
URL:https://www.max-lahr.lu/fr/event/l-assomption/
END:VEVENT
BEGIN:VEVENT
DTSTART;VALUE=DATE:20260614
DTEND;VALUE=DATE:20260615
DTSTAMP:20260425T141500
CREATED:20241018T135402Z
LAST-MODIFIED:20241020T183615Z
UID:6683-1781395200-1781481599@www.max-lahr.lu
SUMMARY:Fête des mères
DESCRIPTION:
URL:https://www.max-lahr.lu/fr/event/fete-des-meres/
END:VEVENT
BEGIN:VEVENT
DTSTART;VALUE=DATE:20260718
DTEND;VALUE=DATE:20260719
DTSTAMP:20260425T141500
CREATED:20191022T075304Z
LAST-MODIFIED:20251119T194618Z
UID:2863-1784332800-1784419199@www.max-lahr.lu
SUMMARY:Promenade des Terroirs Ahn
DESCRIPTION:Promenade du Terroir – Randonnée gourmande à travers les vignobles\n\n\n\n\n\n\n\nSur deux itinéraires différents\, vous découvrirez la diversité de notre paysage et de notre cuisine : \nPalmbergweg – le long parcours à travers les hauteurs des vignobles avec 5 étapes gourmandes45 € par adulte | 23 € par enfant (6–12 ans) \nWéngertswee – l’itinéraire plus court et familial avec 4 étapes gourmandes38 € par adulte | 23 € par enfant (6–12 ans) \nLes deux parcours mènent à des stations gourmandes avec de petites spécialités\, accompagnées des vins des vignerons d’Ahn. Pour nos jeunes invités\, il y a bien sûr du jus de raisin sans alcool – ainsi\, même les enfants peuvent profiter de cette journée avec tous leurs sens. \n🕓 Heure de départ : entre 16h00 et 18h00📍 Point de départ : dans le village d’Ahn\, Luxembourg \nInscrivez-vous dès maintenant \n👉 Remarque :Merci d’indiquer lors de votre inscription : \n\n\nQuel parcours vous souhaitez emprunter (Palmbergweg ou Wéngertswee) \n\n\nLe nombre de participants\, enfants compris \n\n\nSi vous préférez un menu végétarien \n\n\nFaire la fête à Ahn – un plaisir même sans randonnée !\nPour ceux qui préfèrent une ambiance plus tranquille\, vous êtes également chaleureusement invités : toute la journée\, une fête aura lieu dans le village d’Ahn avec stand de grillades\, bar à vins\, café et gâteaux – parfait pour tous ceux qui souhaitent savourer le terroir dans le verre plutôt que sur le parcours de randonnée. Pour les plus petits\, un château gonflable assurera amusement et mouvement. \nRandonnée\, gourmandise\, fête – la Promenade du Terroir offre quelque chose pour tout le monde. Nous nous réjouissons de vous accueillir ! \nRemarque : la participation à la Promenade du Terroir se fait sous la propre responsabilité des participants.
URL:https://www.max-lahr.lu/fr/event/promenade-des-terroirs-ahn/
CATEGORIES:Fêtes des vins
ATTACH;FMTTYPE=image/jpeg:https://www.max-lahr.lu/wp-content/uploads/2019/10/weinwangerung-traumschleife-ahn.jpg
END:VEVENT
BEGIN:VEVENT
DTSTART;VALUE=DATE:20260815
DTEND;VALUE=DATE:20260816
DTSTAMP:20260425T141500
CREATED:20241020T184128Z
LAST-MODIFIED:20241020T184221Z
UID:6691-1786752000-1786838399@www.max-lahr.lu
SUMMARY:Assomption
DESCRIPTION:
URL:https://www.max-lahr.lu/fr/event/assomption/
END:VEVENT
BEGIN:VEVENT
DTSTART;VALUE=DATE:20260919
DTEND;VALUE=DATE:20260921
DTSTAMP:20260425T141500
CREATED:20191022T080255Z
LAST-MODIFIED:20251119T195416Z
UID:2878-1789776000-1789948799@www.max-lahr.lu
SUMMARY:Riesling Open 2026
DESCRIPTION:Célébrez la fin de l’été en beauté lors du Riesling Open Festival ! \nLe Riesling Open est une fête de trois jours placée sous le signe du vin\, du plaisir et des dégustations\,au cours de laquelle vous pourrez découvrir et savourer les meilleurs vins des 16 domaines de notre capitale du Riesling. \n\n19.09.2026  20h00\nCérémonie d’ouverture au centre culturel de Wormeldange \nCouronnement de la Reine du Riesling et dégustation publique de riesling – accompagnées musicalement par les Vocals on Tour. \nAnimation musicale avec la Chorale Wormer\, la Wormer Musek et DJ Bluesound. \nEntrée libre | Réservation possible à partir du 10 septembre : info@rieslingopen.com \n\n20.09.2026  15h00\nParcourez les caves de la commune du Riesling. \nLes domaines viticoles de la commune du Riesling ouvrent leurs caves et vous invitent à découvrir leurs précieux vins.Profitez de moments inoubliables\, tandis que les domaines vous proposent des temps forts culinaires et festifs. \n\n21.09.2026  11h00\nParcourez les caves de la commune du Riesling. \nLes domaines viticoles de la commune du Riesling ouvrent leurs caves et vous invitent à découvrir leurs précieux vins.Profitez de moments inoubliables\, tandis que les domaines vous proposent des temps forts culinaires et festifs.
URL:https://www.max-lahr.lu/fr/event/riesling-open-2026/
LOCATION:Domaine Viticole Max-Lahr et Fils\, 6\, rue des vignes\, Ahn\, Ahn\, 5401\, Luxembourg
CATEGORIES:Fêtes des vins
ATTACH;FMTTYPE=image/png:https://www.max-lahr.lu/wp-content/uploads/2019/10/Riesling-Open.png
END:VEVENT
BEGIN:VEVENT
DTSTART;VALUE=DATE:20261004
DTEND;VALUE=DATE:20261005
DTSTAMP:20260425T141500
CREATED:20241018T133156Z
LAST-MODIFIED:20241020T184457Z
UID:6693-1791072000-1791158399@www.max-lahr.lu
SUMMARY:Fête des pères
DESCRIPTION:
URL:https://www.max-lahr.lu/fr/event/fete-des-peres/
END:VEVENT
END:VCALENDAR