BEGIN:VCALENDAR
VERSION:2.0
PRODID:-//Max-Lahr et Fils - ECPv6.15.18//NONSGML v1.0//EN
CALSCALE:GREGORIAN
METHOD:PUBLISH
X-WR-CALNAME:Max-Lahr et Fils
X-ORIGINAL-URL:https://www.max-lahr.lu/fr/
X-WR-CALDESC:Évènements pour Max-Lahr et Fils
REFRESH-INTERVAL;VALUE=DURATION:PT1H
X-Robots-Tag:noindex
X-PUBLISHED-TTL:PT1H
BEGIN:VTIMEZONE
TZID:Europe/Helsinki
BEGIN:DAYLIGHT
TZOFFSETFROM:+0200
TZOFFSETTO:+0300
TZNAME:EEST
DTSTART:20250330T010000
END:DAYLIGHT
BEGIN:STANDARD
TZOFFSETFROM:+0300
TZOFFSETTO:+0200
TZNAME:EET
DTSTART:20251026T010000
END:STANDARD
BEGIN:DAYLIGHT
TZOFFSETFROM:+0200
TZOFFSETTO:+0300
TZNAME:EEST
DTSTART:20260329T010000
END:DAYLIGHT
BEGIN:STANDARD
TZOFFSETFROM:+0300
TZOFFSETTO:+0200
TZNAME:EET
DTSTART:20261025T010000
END:STANDARD
BEGIN:DAYLIGHT
TZOFFSETFROM:+0200
TZOFFSETTO:+0300
TZNAME:EEST
DTSTART:20270328T010000
END:DAYLIGHT
BEGIN:STANDARD
TZOFFSETFROM:+0300
TZOFFSETTO:+0200
TZNAME:EET
DTSTART:20271031T010000
END:STANDARD
END:VTIMEZONE
BEGIN:VEVENT
DTSTART;VALUE=DATE:20260326
DTEND;VALUE=DATE:20260328
DTSTAMP:20260425T170538
CREATED:20180309T151633Z
LAST-MODIFIED:20251119T194457Z
UID:2722-1774483200-1774655999@www.max-lahr.lu
SUMMARY:WÄIKUES am Norden
DESCRIPTION:En collaboration avec les vignerons privés du Luxembourg\, nous avons le plaisir de vous accueillir au « Wäikues am Norden » à la Däichhal Ettelbrück. \nLes 27 et 28 mars\, de 16h00 à 21h00 \nVous aurez l’occasion de déguster une sélection de nos meilleurs vins et crémants. \nL’entrée est gratuite\, le verre de dégustation coûte 15 €. \nNous nous réjouissons de votre visite !
URL:https://www.max-lahr.lu/fr/event/waeikues-am-norden/
LOCATION:Däichhal Ettelbrück\, Ettelbrück\, Luxembourg
CATEGORIES:Fêtes des vins
ATTACH;FMTTYPE=image/jpeg:https://www.max-lahr.lu/wp-content/uploads/2018/03/Waeikues-am-Norden.jpg
END:VEVENT
END:VCALENDAR