BEGIN:VCALENDAR
VERSION:2.0
PRODID:-//Max-Lahr et Fils - ECPv6.15.18//NONSGML v1.0//EN
CALSCALE:GREGORIAN
METHOD:PUBLISH
X-WR-CALNAME:Max-Lahr et Fils
X-ORIGINAL-URL:https://www.max-lahr.lu
X-WR-CALDESC:Veranstaltungen für Max-Lahr et Fils
REFRESH-INTERVAL;VALUE=DURATION:PT1H
X-Robots-Tag:noindex
X-PUBLISHED-TTL:PT1H
BEGIN:VTIMEZONE
TZID:Europe/Helsinki
BEGIN:DAYLIGHT
TZOFFSETFROM:+0200
TZOFFSETTO:+0300
TZNAME:EEST
DTSTART:20250330T010000
END:DAYLIGHT
BEGIN:STANDARD
TZOFFSETFROM:+0300
TZOFFSETTO:+0200
TZNAME:EET
DTSTART:20251026T010000
END:STANDARD
BEGIN:DAYLIGHT
TZOFFSETFROM:+0200
TZOFFSETTO:+0300
TZNAME:EEST
DTSTART:20260329T010000
END:DAYLIGHT
BEGIN:STANDARD
TZOFFSETFROM:+0300
TZOFFSETTO:+0200
TZNAME:EET
DTSTART:20261025T010000
END:STANDARD
BEGIN:DAYLIGHT
TZOFFSETFROM:+0200
TZOFFSETTO:+0300
TZNAME:EEST
DTSTART:20270328T010000
END:DAYLIGHT
BEGIN:STANDARD
TZOFFSETFROM:+0300
TZOFFSETTO:+0200
TZNAME:EET
DTSTART:20271031T010000
END:STANDARD
END:VTIMEZONE
BEGIN:VEVENT
DTSTART;VALUE=DATE:20260524
DTEND;VALUE=DATE:20260526
DTSTAMP:20260425T182017
CREATED:20241015T180042Z
LAST-MODIFIED:20251119T191140Z
UID:2736-1779580800-1779753599@www.max-lahr.lu
SUMMARY:WINE TASTE ENJOY
DESCRIPTION:0Wochenende der offenen Weinkeller an der Luxemburger Mosel \nDie gesamte Region\, sowie die teilnehmenden Kellereien in den Winzerdörfern sind mit dem gut organisierten öffentlichen Personennahverkehr erreichbar. Des Weiteren stehen den Besuchern zwei kostenlose Shuttle-Busse\, welche alle Winzer anfahren\, zur Verfügung. \nEin detailliertes Programm des Events « Wine Taste Enjoy » mit allen Veranstaltungen ist als Download verfügbar.
URL:https://www.max-lahr.lu/event/wine-taste-enjoy-2026/
LOCATION:Domaine Viticole Max-Lahr et Fils\, 6\, rue des vignes\, Ahn\, Ahn\, 5401\, Luxembourg
CATEGORIES:Weinfeste
ATTACH;FMTTYPE=image/jpeg:https://www.max-lahr.lu/wp-content/uploads/2018/03/wine-taste-enjoy.jpg
ORGANIZER;CN="Office R%C3%A9gional du Tourisme R%C3%A9gion Moselle Luxembourgeoise":MAILTO:info@visitmoselle.lu
END:VEVENT
END:VCALENDAR