BEGIN:VCALENDAR
VERSION:2.0
PRODID:-//Max-Lahr et Fils - ECPv6.15.18//NONSGML v1.0//EN
CALSCALE:GREGORIAN
METHOD:PUBLISH
X-WR-CALNAME:Max-Lahr et Fils
X-ORIGINAL-URL:https://www.max-lahr.lu
X-WR-CALDESC:Veranstaltungen für Max-Lahr et Fils
REFRESH-INTERVAL;VALUE=DURATION:PT1H
X-Robots-Tag:noindex
X-PUBLISHED-TTL:PT1H
BEGIN:VTIMEZONE
TZID:Europe/Helsinki
BEGIN:DAYLIGHT
TZOFFSETFROM:+0200
TZOFFSETTO:+0300
TZNAME:EEST
DTSTART:20250330T010000
END:DAYLIGHT
BEGIN:STANDARD
TZOFFSETFROM:+0300
TZOFFSETTO:+0200
TZNAME:EET
DTSTART:20251026T010000
END:STANDARD
BEGIN:DAYLIGHT
TZOFFSETFROM:+0200
TZOFFSETTO:+0300
TZNAME:EEST
DTSTART:20260329T010000
END:DAYLIGHT
BEGIN:STANDARD
TZOFFSETFROM:+0300
TZOFFSETTO:+0200
TZNAME:EET
DTSTART:20261025T010000
END:STANDARD
BEGIN:DAYLIGHT
TZOFFSETFROM:+0200
TZOFFSETTO:+0300
TZNAME:EEST
DTSTART:20270328T010000
END:DAYLIGHT
BEGIN:STANDARD
TZOFFSETFROM:+0300
TZOFFSETTO:+0200
TZNAME:EET
DTSTART:20271031T010000
END:STANDARD
END:VTIMEZONE
BEGIN:VEVENT
DTSTART;VALUE=DATE:20260815
DTEND;VALUE=DATE:20260816
DTSTAMP:20260425T031654
CREATED:20241020T184128Z
LAST-MODIFIED:20251119T190356Z
UID:6689-1786752000-1786838399@www.max-lahr.lu
SUMMARY:Mariä Himmelfahrt
DESCRIPTION:
URL:https://www.max-lahr.lu/event/mariae-himmelfahrt/
END:VEVENT
BEGIN:VEVENT
DTSTART;VALUE=DATE:20260919
DTEND;VALUE=DATE:20260921
DTSTAMP:20260425T031654
CREATED:20191022T080255Z
LAST-MODIFIED:20251119T195516Z
UID:2873-1789776000-1789948799@www.max-lahr.lu
SUMMARY:Riesling Open 2026
DESCRIPTION:Feiern Sie den perfekten Sommerabschluss beim Riesling Open Festival! \n\nDer Riesling Open ist eine dreitägige Feier voller Wein\, Genuss und Verkostungen\, \nbei der Sie die besten Weine der 16 Weingüter unserer Riesling-Hauptstadt entdecken und erleben können. \n\n19.09.2026 / 20:00\n\n\nEröffnungsfeier im Kulturzentrum in Wormeldingen \nKrönung der Rieslingkönigin und öffentliche Rieslingverkostung – musikalisch begleitet von den Vocals on Tour. \nMusikalische Unterhaltung mit der Chorale Wormer & Wormer Musek\, DJ Bluesound \n  \nEintritt frei | Mögliche Reservierung ab dem 10. September: info@rieslingopen.com \n\n\n\n\n\n\n\n\n\n20.09.2026 / 15:00\n\n\nDurchstreifen Sie die Weinkeller der Rieslinggemeinde. \nDie Weingüter der Rieslingemeinde öffnen ihre Weinkeller und laden Sie ein\, ihre edlen Tropfen zu entdecken. Genießen Sie unvergessliche Momente\, während die Weingüter für kulinarische und unterhaltsame Highlights sorgen. \n\n\n\n\n\n\n\n\n\n\n\n\n21.09.2026 / 11:00\n\n\nDurchstreifen Sie die Weinkeller der Rieslinggemeinde. \nDie Weingüter der Rieslingemeinde öffnen ihre Weinkeller und laden Sie ein\, ihre edlen Tropfen zu entdecken. Genießen Sie unvergessliche Momente\, während die Weingüter für kulinarische und unterhaltsame Highlights sorgen.
URL:https://www.max-lahr.lu/event/riesling-open-2026/
LOCATION:Domaine Viticole Max-Lahr et Fils\, 6\, rue des vignes\, Ahn\, Ahn\, 5401\, Luxembourg
CATEGORIES:Weinfeste
ATTACH;FMTTYPE=image/png:https://www.max-lahr.lu/wp-content/uploads/2019/10/Riesling-Open.png
END:VEVENT
BEGIN:VEVENT
DTSTART;VALUE=DATE:20261003
DTEND;VALUE=DATE:20261004
DTSTAMP:20260425T031654
CREATED:20241018T135903Z
LAST-MODIFIED:20251119T190407Z
UID:6676-1790985600-1791071999@www.max-lahr.lu
SUMMARY:Tag der Deutschen Einheit
DESCRIPTION:
URL:https://www.max-lahr.lu/event/tag-der-deutschen-einheit/
ATTACH;FMTTYPE=image/png:https://www.max-lahr.lu/wp-content/uploads/2024/10/Flag_of_Germany.png
END:VEVENT
BEGIN:VEVENT
DTSTART;VALUE=DATE:20261004
DTEND;VALUE=DATE:20261005
DTSTAMP:20260425T031654
CREATED:20241018T133156Z
LAST-MODIFIED:20251119T190423Z
UID:6621-1791072000-1791158399@www.max-lahr.lu
SUMMARY:Vatertag
DESCRIPTION:
URL:https://www.max-lahr.lu/event/vatertag/
END:VEVENT
BEGIN:VEVENT
DTSTART;VALUE=DATE:20261101
DTEND;VALUE=DATE:20261102
DTSTAMP:20260425T031654
CREATED:20241018T133156Z
LAST-MODIFIED:20251119T191818Z
UID:6622-1793491200-1793577599@www.max-lahr.lu
SUMMARY:Allerheiligen
DESCRIPTION:
URL:https://www.max-lahr.lu/event/allerheiligen/
END:VEVENT
BEGIN:VEVENT
DTSTART;VALUE=DATE:20261102
DTEND;VALUE=DATE:20261103
DTSTAMP:20260425T031654
CREATED:20241018T133156Z
LAST-MODIFIED:20251119T191836Z
UID:6623-1793577600-1793663999@www.max-lahr.lu
SUMMARY:Allerseelen
DESCRIPTION:
URL:https://www.max-lahr.lu/event/allerseelen/
END:VEVENT
BEGIN:VEVENT
DTSTART;VALUE=DATE:20261225
DTEND;VALUE=DATE:20261226
DTSTAMP:20260425T031654
CREATED:20241018T133157Z
LAST-MODIFIED:20251119T191557Z
UID:6625-1798156800-1798243199@www.max-lahr.lu
SUMMARY:Weihnachten
DESCRIPTION:
URL:https://www.max-lahr.lu/event/weihnachten/
END:VEVENT
END:VCALENDAR