BEGIN:VCALENDAR
VERSION:2.0
PRODID:-//Max-Lahr et Fils - ECPv6.15.18//NONSGML v1.0//EN
CALSCALE:GREGORIAN
METHOD:PUBLISH
X-WR-CALNAME:Max-Lahr et Fils
X-ORIGINAL-URL:https://www.max-lahr.lu
X-WR-CALDESC:Veranstaltungen für Max-Lahr et Fils
REFRESH-INTERVAL;VALUE=DURATION:PT1H
X-Robots-Tag:noindex
X-PUBLISHED-TTL:PT1H
BEGIN:VTIMEZONE
TZID:Europe/Helsinki
BEGIN:DAYLIGHT
TZOFFSETFROM:+0200
TZOFFSETTO:+0300
TZNAME:EEST
DTSTART:20230326T010000
END:DAYLIGHT
BEGIN:STANDARD
TZOFFSETFROM:+0300
TZOFFSETTO:+0200
TZNAME:EET
DTSTART:20231029T010000
END:STANDARD
BEGIN:DAYLIGHT
TZOFFSETFROM:+0200
TZOFFSETTO:+0300
TZNAME:EEST
DTSTART:20240331T010000
END:DAYLIGHT
BEGIN:STANDARD
TZOFFSETFROM:+0300
TZOFFSETTO:+0200
TZNAME:EET
DTSTART:20241027T010000
END:STANDARD
BEGIN:DAYLIGHT
TZOFFSETFROM:+0200
TZOFFSETTO:+0300
TZNAME:EEST
DTSTART:20250330T010000
END:DAYLIGHT
BEGIN:STANDARD
TZOFFSETFROM:+0300
TZOFFSETTO:+0200
TZNAME:EET
DTSTART:20251026T010000
END:STANDARD
BEGIN:DAYLIGHT
TZOFFSETFROM:+0200
TZOFFSETTO:+0300
TZNAME:EEST
DTSTART:20260329T010000
END:DAYLIGHT
BEGIN:STANDARD
TZOFFSETFROM:+0300
TZOFFSETTO:+0200
TZNAME:EET
DTSTART:20261025T010000
END:STANDARD
BEGIN:DAYLIGHT
TZOFFSETFROM:+0200
TZOFFSETTO:+0300
TZNAME:EEST
DTSTART:20270328T010000
END:DAYLIGHT
BEGIN:STANDARD
TZOFFSETFROM:+0300
TZOFFSETTO:+0200
TZNAME:EET
DTSTART:20271031T010000
END:STANDARD
END:VTIMEZONE
BEGIN:VEVENT
DTSTART;VALUE=DATE:20260406
DTEND;VALUE=DATE:20260407
DTSTAMP:20260425T030519
CREATED:20241018T133204Z
LAST-MODIFIED:20251119T190835Z
UID:6629-1775433600-1775519999@www.max-lahr.lu
SUMMARY:Ostermontag
DESCRIPTION:
URL:https://www.max-lahr.lu/event/ostermontag/
END:VEVENT
BEGIN:VEVENT
DTSTART;VALUE=DATE:20260326
DTEND;VALUE=DATE:20260328
DTSTAMP:20260425T030519
CREATED:20180309T151633Z
LAST-MODIFIED:20251119T200124Z
UID:2711-1774483200-1774655999@www.max-lahr.lu
SUMMARY:WÄIKUES am Norden
DESCRIPTION:Zusammen mit den Privatwinzern Luxemburg begrüßen wir Sie herzlich zum „Wäikues am Norden“ in der Däichhal Ettelbrück. \n26. und 27. März\, jeweils von 16:00 bis 21:00 Uhr \nNutzen Sie die Gelegenheit\, eine Auswahl unserer besten Weine und Crémants zu verkosten. \nDer Eintritt ist frei\, das Probierglas kostet 15 €. \nWir freuen uns auf Ihren Besuch!
URL:https://www.max-lahr.lu/event/waeikues-am-norden/
LOCATION:Däichhal Ettelbrück\, Ettelbrück\, Luxembourg
CATEGORIES:Weinfeste
ATTACH;FMTTYPE=image/jpeg:https://www.max-lahr.lu/wp-content/uploads/2018/03/Waeikues-am-Norden.jpg
END:VEVENT
BEGIN:VEVENT
DTSTART;VALUE=DATE:20260214
DTEND;VALUE=DATE:20260215
DTSTAMP:20260425T030519
CREATED:20241018T134939Z
LAST-MODIFIED:20251119T190036Z
UID:6664-1771027200-1771113599@www.max-lahr.lu
SUMMARY:Valentinstag
DESCRIPTION:
URL:https://www.max-lahr.lu/event/valentinstag/
END:VEVENT
BEGIN:VEVENT
DTSTART;VALUE=DATE:20260101
DTEND;VALUE=DATE:20260102
DTSTAMP:20260425T030519
CREATED:20251119T202435Z
LAST-MODIFIED:20251119T202435Z
UID:7249-1767225600-1767311999@www.max-lahr.lu
SUMMARY:Neujahr
DESCRIPTION:
URL:https://www.max-lahr.lu/event/neujahr/
END:VEVENT
BEGIN:VEVENT
DTSTART;VALUE=DATE:20251231
DTEND;VALUE=DATE:20260101
DTSTAMP:20260425T030519
CREATED:20241018T133204Z
LAST-MODIFIED:20251119T200847Z
UID:6627-1767139200-1767225599@www.max-lahr.lu
SUMMARY:Silvester
DESCRIPTION:
URL:https://www.max-lahr.lu/event/silvester/
END:VEVENT
BEGIN:VEVENT
DTSTART;VALUE=DATE:20251226
DTEND;VALUE=DATE:20251227
DTSTAMP:20260425T030519
CREATED:20241018T133203Z
LAST-MODIFIED:20251119T190854Z
UID:6626-1766707200-1766793599@www.max-lahr.lu
SUMMARY:Stephanstag
DESCRIPTION:
URL:https://www.max-lahr.lu/event/stephanstag/
END:VEVENT
BEGIN:VEVENT
DTSTART;VALUE=DATE:20251225
DTEND;VALUE=DATE:20251226
DTSTAMP:20260425T030519
CREATED:20251119T201557Z
LAST-MODIFIED:20251119T202038Z
UID:7242-1766620800-1766707199@www.max-lahr.lu
SUMMARY:Weihnachten
DESCRIPTION:
URL:https://www.max-lahr.lu/event/weihnachten-25/
END:VEVENT
BEGIN:VEVENT
DTSTART;VALUE=DATE:20251224
DTEND;VALUE=DATE:20251225
DTSTAMP:20260425T030519
CREATED:20241018T133157Z
LAST-MODIFIED:20251119T191608Z
UID:6624-1766534400-1766620799@www.max-lahr.lu
SUMMARY:Heiligabend
DESCRIPTION:
URL:https://www.max-lahr.lu/event/heiligabend/
END:VEVENT
BEGIN:VEVENT
DTSTART;VALUE=DATE:20251128
DTEND;VALUE=DATE:20251201
DTSTAMP:20260425T030519
CREATED:20241013T180203Z
LAST-MODIFIED:20251119T183912Z
UID:6559-1764288000-1764547199@www.max-lahr.lu
SUMMARY:Fête des Vins & Crémants
DESCRIPTION:28/11/2025 (15:00 – 20:00)\n29/11/2025 (15:00 – 20:00)\n30/12/2025 (15:00 – 20:00) \nEntry: 20€ in advance payment here: www.luxembourg-ticket.lu (up from october 14) or 25€ box office.
URL:https://www.max-lahr.lu/event/fete-des-vins-cremants/
LOCATION:Fête des Vins & Crémants\, Glacis\, Luxembourg-Ville\, Luxembourg
ATTACH;FMTTYPE=image/jpeg:https://www.max-lahr.lu/wp-content/uploads/2022/11/IMG_0663.jpg
END:VEVENT
BEGIN:VEVENT
DTSTART;VALUE=DATE:20251115
DTEND;VALUE=DATE:20251117
DTSTAMP:20260425T030519
CREATED:20241013T174522Z
LAST-MODIFIED:20251119T185731Z
UID:6549-1763164800-1763337599@www.max-lahr.lu
SUMMARY:Porte Ouverte by Max-Lahr et Fils
DESCRIPTION:Tasting of wine and cremants!
URL:https://www.max-lahr.lu/event/porte-ouverte-by-max-lahr-et-fils-25/
LOCATION:Domaine Viticole Max-Lahr et Fils\, 6\, rue des vignes\, Ahn\, Ahn\, 5401\, Luxembourg
ATTACH;FMTTYPE=image/jpeg:https://www.max-lahr.lu/wp-content/uploads/2021/08/IMG_9428.jpg
ORGANIZER;CN="Domaine Viticole Max-Lahr et Fils":MAILTO:info@max-lahr.lu
END:VEVENT
BEGIN:VEVENT
DTSTART;VALUE=DATE:20251111
DTEND;VALUE=DATE:20251112
DTSTAMP:20260425T030519
CREATED:20241018T134814Z
LAST-MODIFIED:20251119T191619Z
UID:6662-1762819200-1762905599@www.max-lahr.lu
SUMMARY:Gedenktag 1918 (Frankreich)
DESCRIPTION:
URL:https://www.max-lahr.lu/event/gedenktag-1918-frankreich/
END:VEVENT
BEGIN:VEVENT
DTSTART;VALUE=DATE:20251025
DTEND;VALUE=DATE:20251027
DTSTAMP:20260425T030519
CREATED:20241013T174119Z
LAST-MODIFIED:20251119T185530Z
UID:6546-1761350400-1761523199@www.max-lahr.lu
SUMMARY:Porte Ouverte & Brennerdag by Max-Lahr et Fils
DESCRIPTION:Tasting of wine\, cremants and brandys! \n11:00 to 19:00
URL:https://www.max-lahr.lu/event/porte-ouverte-by-max-lahr-et-fils/
LOCATION:Domaine Viticole Max-Lahr et Fils\, 6\, rue des vignes\, Ahn\, Ahn\, 5401\, Luxembourg
ATTACH;FMTTYPE=image/jpeg:https://www.max-lahr.lu/wp-content/uploads/2021/08/IMG_9428.jpg
ORGANIZER;CN="Domaine Viticole Max-Lahr et Fils":MAILTO:info@max-lahr.lu
END:VEVENT
BEGIN:VEVENT
DTSTART;VALUE=DATE:20250101
DTEND;VALUE=DATE:20250102
DTSTAMP:20260425T030519
CREATED:20241018T133204Z
LAST-MODIFIED:20251119T190003Z
UID:6628-1735689600-1735775999@www.max-lahr.lu
SUMMARY:Neujahrstag
DESCRIPTION:
URL:https://www.max-lahr.lu/event/neujahrstag/
END:VEVENT
BEGIN:VEVENT
DTSTART;TZID=Europe/Helsinki:20241124T170000
DTEND;TZID=Europe/Helsinki:20241124T210000
DTSTAMP:20260425T030519
CREATED:20241013T175214Z
LAST-MODIFIED:20241013T175232Z
UID:6555-1732467600-1732482000@www.max-lahr.lu
SUMMARY:Porte Ouverte by Max-Lahr et Fils
DESCRIPTION:Tasting of wine and cremants
URL:https://www.max-lahr.lu/event/porte-ouverte-by-max-lahr-et-fils-24/
LOCATION:Domaine Viticole Max-Lahr et Fils\, 6\, rue des vignes\, Ahn\, Ahn\, 5401\, Luxembourg
ATTACH;FMTTYPE=image/jpeg:https://www.max-lahr.lu/wp-content/uploads/2021/08/IMG_9428.jpg
ORGANIZER;CN="Domaine Viticole Max-Lahr et Fils":MAILTO:info@max-lahr.lu
END:VEVENT
BEGIN:VEVENT
DTSTART;TZID=Europe/Helsinki:20241123T170000
DTEND;TZID=Europe/Helsinki:20241123T210000
DTSTAMP:20260425T030519
CREATED:20241013T174945Z
LAST-MODIFIED:20241013T174945Z
UID:6552-1732381200-1732395600@www.max-lahr.lu
SUMMARY:Porte Ouverte by Max-Lahr et Fils
DESCRIPTION:Tasting of wine and cremants
URL:https://www.max-lahr.lu/event/porte-ouverte-by-max-lahr-et-fils-23/
LOCATION:Domaine Viticole Max-Lahr et Fils\, 6\, rue des vignes\, Ahn\, Ahn\, 5401\, Luxembourg
ATTACH;FMTTYPE=image/jpeg:https://www.max-lahr.lu/wp-content/uploads/2021/08/IMG_9428.jpg
ORGANIZER;CN="Domaine Viticole Max-Lahr et Fils":MAILTO:info@max-lahr.lu
END:VEVENT
BEGIN:VEVENT
DTSTART;TZID=Europe/Helsinki:20241027T130000
DTEND;TZID=Europe/Helsinki:20241027T200000
DTSTAMP:20260425T030519
CREATED:20241013T173002Z
LAST-MODIFIED:20241013T173002Z
UID:6536-1730034000-1730059200@www.max-lahr.lu
SUMMARY:Brennerdag\, aka D'Miselerland brennt!
DESCRIPTION:
URL:https://www.max-lahr.lu/event/brennerdag-aka-dmiselerland-brennt-27/
LOCATION:Domaine Viticole Max-Lahr et Fils\, 6\, rue des vignes\, Ahn\, Ahn\, 5401\, Luxembourg
END:VEVENT
BEGIN:VEVENT
DTSTART;TZID=Europe/Helsinki:20241027T130000
DTEND;TZID=Europe/Helsinki:20241027T180000
DTSTAMP:20260425T030519
CREATED:20241013T173544Z
LAST-MODIFIED:20241013T173544Z
UID:6543-1730034000-1730052000@www.max-lahr.lu
SUMMARY:Letz Marry
DESCRIPTION:
URL:https://www.max-lahr.lu/event/letz-marry-27/
LOCATION:Letz Marry Salon\, 41 rue de Bouillon\, Luxembourg\, Luxembourg\, L-1248\, Luxembourg
ATTACH;FMTTYPE=image/jpeg:https://www.max-lahr.lu/wp-content/uploads/2024/10/Letz-Marry_Salon.jpg
ORGANIZER;CN="Letz Marry":MAILTO:info@letzmarry.lu
END:VEVENT
BEGIN:VEVENT
DTSTART;TZID=Europe/Helsinki:20241026T180000
DTEND;TZID=Europe/Helsinki:20241026T220000
DTSTAMP:20260425T030519
CREATED:20241013T173310Z
LAST-MODIFIED:20241013T173416Z
UID:6539-1729965600-1729980000@www.max-lahr.lu
SUMMARY:Letz Marry
DESCRIPTION:
URL:https://www.max-lahr.lu/event/letz-marry-26/
LOCATION:Letz Marry Salon\, 41 rue de Bouillon\, Luxembourg\, Luxembourg\, L-1248\, Luxembourg
ATTACH;FMTTYPE=image/jpeg:https://www.max-lahr.lu/wp-content/uploads/2024/10/Letz-Marry_Salon.jpg
ORGANIZER;CN="Letz Marry":MAILTO:info@letzmarry.lu
END:VEVENT
BEGIN:VEVENT
DTSTART;TZID=Europe/Helsinki:20241026T160000
DTEND;TZID=Europe/Helsinki:20241026T200000
DTSTAMP:20260425T030519
CREATED:20241013T172700Z
LAST-MODIFIED:20241013T172700Z
UID:6533-1729958400-1729972800@www.max-lahr.lu
SUMMARY:Brennerdag\, aka D'Miselerland brennt!
DESCRIPTION:
URL:https://www.max-lahr.lu/event/brennerdag-aka-dmiselerland-brennt/
LOCATION:Domaine Viticole Max-Lahr et Fils\, 6\, rue des vignes\, Ahn\, Ahn\, 5401\, Luxembourg
END:VEVENT
BEGIN:VEVENT
DTSTART;VALUE=DATE:20241006
DTEND;VALUE=DATE:20241007
DTSTAMP:20260425T030519
CREATED:20241018T133156Z
LAST-MODIFIED:20241018T133156Z
UID:6695-1728172800-1728259199@www.max-lahr.lu
SUMMARY:Vatertag
DESCRIPTION:
URL:https://www.max-lahr.lu/event/vatertag-2/
END:VEVENT
BEGIN:VEVENT
DTSTART;VALUE=DATE:20241003
DTEND;VALUE=DATE:20241004
DTSTAMP:20260425T030519
CREATED:20241018T135903Z
LAST-MODIFIED:20241018T135903Z
UID:6678-1727913600-1727999999@www.max-lahr.lu
SUMMARY:Tag der Deutschen Einheit
DESCRIPTION:
URL:https://www.max-lahr.lu/event/tag-der-deutschen-einheit-2/
ATTACH;FMTTYPE=image/png:https://www.max-lahr.lu/wp-content/uploads/2024/10/Flag_of_Germany.png
END:VEVENT
END:VCALENDAR